BEGIN:VCALENDAR
VERSION:2.0
CALSCALE:GREGORIAN
PRODID:adamgibbons/ics
METHOD:PUBLISH
X-PUBLISHED-TTL:PT1H
BEGIN:VEVENT
UID:141@freestreamers.btfree.org
SUMMARY:Elif Yalvac - 3rd W3dn35day online gig
DTSTAMP:20260422T010416Z
DTSTART:20260520T190000Z
DTEND:20260520T200000Z
URL:https://freestreamers.btfree.org/event/elif-yalvac-3rd-w3dn35day-online
	-gig
LOCATION:online - https://stream.gravitons.org
STATUS:CONFIRMED
CATEGORIES:NHAM events,electronic music,fediwave,liveStreaming,music,owncas
	t
END:VEVENT
BEGIN:VEVENT
UID:287@freestreamers.btfree.org
SUMMARY:NHAM in Concert presents… gribbles
DTSTAMP:20260422T010416Z
DTSTART:20260521T190000Z
DTEND:20260521T200000Z
URL:https://freestreamers.btfree.org/event/nham-in-concert-presents-1
LOCATION:online - https://tv.theindiebeat.fm/
STATUS:CONFIRMED
CATEGORIES:NHAM,NHAM events,NHAM in Concert,TIBtv,electronic music,fediwave
	,live,live music,liveStreaming,livestream,music,owncast
END:VEVENT
END:VCALENDAR
